BEGIN:VCALENDAR
VERSION:2.0
PRODID:-//AGRO - ECPv6.14.1//NONSGML v1.0//EN
CALSCALE:GREGORIAN
METHOD:PUBLISH
X-WR-CALNAME:AGRO
X-ORIGINAL-URL:https://www.agrodiv.org
X-WR-CALDESC:Events for AGRO
REFRESH-INTERVAL;VALUE=DURATION:PT1H
X-Robots-Tag:noindex
X-PUBLISHED-TTL:PT1H
BEGIN:VTIMEZONE
TZID:America/New_York
BEGIN:DAYLIGHT
TZOFFSETFROM:-0500
TZOFFSETTO:-0400
TZNAME:EDT
DTSTART:20220313T070000
END:DAYLIGHT
BEGIN:STANDARD
TZOFFSETFROM:-0400
TZOFFSETTO:-0500
TZNAME:EST
DTSTART:20221106T060000
END:STANDARD
END:VTIMEZONE
BEGIN:VEVENT
DTSTART;VALUE=DATE:20220821
DTEND;VALUE=DATE:20220826
DTSTAMP:20260425T113338
CREATED:20210727T183420Z
LAST-MODIFIED:20220817T133914Z
UID:1974-1661040000-1661471999@www.agrodiv.org
SUMMARY:2022 ACS Fall National Meeting
DESCRIPTION:AGRO Program Available Below\nAGRO Full Program \nTechnical Program Now Available\nThe technical program is now available! Programs for ACS AGRO and the broader ACS community are combined at the ACS Program Website. Please find the technical program at the link here: \nACS Technical Program \nRegister for the Meeting\nRegistration is now open\, and we encourage everyone to begin registering for the meeting! You can find the link to register here: \nRegister for the Meeting \nTravel and Accommodations \nFor those traveling to the ACS Fall Meeting in Chicago\, IL\, ACS provides some useful information about travel\, hotels\, and various accommodations. Please see the following link for more details: \nTravel and Accommodations \n  \nPlan to Attend Our Social Events!\nAs you review the ACS national meeting program and identify presentations and poster to attend\, please plan to join these AGRO non-Technical Sessions: \n\nGrow with AGRO – the AGRO EC Business meeting will now be an AGRO welcome back and Networking Session on Sunday\, Aug 21st from 6 to 9 PM\, \nGraduate Student Lunch – Monday\, Aug 22nd from noon to 1 PM Please note this is a special event that requires an RSVP. For additional information\, please contact sara.whiting@bayer.com .\nSterling Hendricks Reception –Tuesday\, Aug 23rd from noon to 1 PM\, \nBlues & Brews – Tuesday\, Aug 23rd 6:30 to 7:30 PM\, \nAGRO Awards Social – Wednesday from 6 to 8 PM. \n\n**All times are Chicago local Central Daylight Time (CDT) zone. \n \n  \n 
URL:https://www.agrodiv.org/event/2022-acs-fall-national-meeting/
LOCATION:McCormick Place\, 2301 S King Dr\, Chicago\, IL\, 60616\, United States
CATEGORIES:ACS National Meeting Programs
END:VEVENT
END:VCALENDAR